BEGIN:VCALENDAR
VERSION:2.0
PRODID:-//Animal &amp; Dairy Sciences - ECPv6.15.20//NONSGML v1.0//EN
CALSCALE:GREGORIAN
METHOD:PUBLISH
X-ORIGINAL-URL:https://andysci.wisc.edu
X-WR-CALDESC:Events for Animal &amp; Dairy Sciences
REFRESH-INTERVAL;VALUE=DURATION:PT1H
X-Robots-Tag:noindex
X-PUBLISHED-TTL:PT1H
BEGIN:VTIMEZONE
TZID:America/Chicago
BEGIN:DAYLIGHT
TZOFFSETFROM:-0600
TZOFFSETTO:-0500
TZNAME:CDT
DTSTART:20210314T080000
END:DAYLIGHT
BEGIN:STANDARD
TZOFFSETFROM:-0500
TZOFFSETTO:-0600
TZNAME:CST
DTSTART:20211107T070000
END:STANDARD
BEGIN:DAYLIGHT
TZOFFSETFROM:-0600
TZOFFSETTO:-0500
TZNAME:CDT
DTSTART:20220313T080000
END:DAYLIGHT
BEGIN:STANDARD
TZOFFSETFROM:-0500
TZOFFSETTO:-0600
TZNAME:CST
DTSTART:20221106T070000
END:STANDARD
BEGIN:DAYLIGHT
TZOFFSETFROM:-0600
TZOFFSETTO:-0500
TZNAME:CDT
DTSTART:20230312T080000
END:DAYLIGHT
BEGIN:STANDARD
TZOFFSETFROM:-0500
TZOFFSETTO:-0600
TZNAME:CST
DTSTART:20231105T070000
END:STANDARD
END:VTIMEZONE
BEGIN:VEVENT
DTSTART;TZID=America/Chicago:20220128T090000
DTEND;TZID=America/Chicago:20220128T110000
DTSTAMP:20260423T130237
CREATED:20220126T231012Z
LAST-MODIFIED:20220126T231012Z
UID:11025-1643360400-1643367600@andysci.wisc.edu
SUMMARY:CALS Student International Networking Social
DESCRIPTION:
URL:https://andysci.wisc.edu/dysci-event/cals-student-international-networking-social/
LOCATION:Steenbock Library Biocommons\, 550 Babcock Drive\, Madison\, WI\, United States
CATEGORIES:Undergraduate Events
ORGANIZER;CN="UW-Madison College of Agricultural and Life Sciences":MAILTO:info@cals.wisc.edu
END:VEVENT
END:VCALENDAR