BEGIN:VCALENDAR
VERSION:2.0
PRODID:-//Animal &amp; Dairy Sciences - ECPv6.15.17.1//NONSGML v1.0//EN
CALSCALE:GREGORIAN
METHOD:PUBLISH
X-ORIGINAL-URL:https://andysci.wisc.edu
X-WR-CALDESC:Events for Animal &amp; Dairy Sciences
REFRESH-INTERVAL;VALUE=DURATION:PT1H
X-Robots-Tag:noindex
X-PUBLISHED-TTL:PT1H
BEGIN:VTIMEZONE
TZID:America/Chicago
BEGIN:DAYLIGHT
TZOFFSETFROM:-0600
TZOFFSETTO:-0500
TZNAME:CDT
DTSTART:20220313T080000
END:DAYLIGHT
BEGIN:STANDARD
TZOFFSETFROM:-0500
TZOFFSETTO:-0600
TZNAME:CST
DTSTART:20221106T070000
END:STANDARD
BEGIN:DAYLIGHT
TZOFFSETFROM:-0600
TZOFFSETTO:-0500
TZNAME:CDT
DTSTART:20230312T080000
END:DAYLIGHT
BEGIN:STANDARD
TZOFFSETFROM:-0500
TZOFFSETTO:-0600
TZNAME:CST
DTSTART:20231105T070000
END:STANDARD
BEGIN:DAYLIGHT
TZOFFSETFROM:-0600
TZOFFSETTO:-0500
TZNAME:CDT
DTSTART:20240310T080000
END:DAYLIGHT
BEGIN:STANDARD
TZOFFSETFROM:-0500
TZOFFSETTO:-0600
TZNAME:CST
DTSTART:20241103T070000
END:STANDARD
END:VTIMEZONE
BEGIN:VEVENT
DTSTART;TZID=America/Chicago:20230413T180000
DTEND;TZID=America/Chicago:20230413T190000
DTSTAMP:20260422T043100
CREATED:20230411T174602Z
LAST-MODIFIED:20230411T174856Z
UID:14050-1681408800-1681412400@andysci.wisc.edu
SUMMARY:Virtual & In-person Preview Days
DESCRIPTION:The University of Wisconsin-Madison’s Department of Animal & Dairy Sciences invites prospective students that are interested in majoring in animal or dairy science to attend virtual or in person preview day events to explore what the program has to offer. See below for a full listing of virtual and in person events and their registration links. \n  \n· April 13th\, 2023 @6:00pm to 7:00pm CST: Zoom Presentation and Q&A o Link to Sign Up: Register here \n· April 26th\, 2023 @6:30pm to 7:30pm CST: Zoom Presentation and Q&A o Link to Sign Up: Register here \n· May 5th\, 2023 @2:30pm-4:30pm CST: In Person Animal & Dairy Campus Tour o Link to Sign Up: Register here \n  \nAdmitted and prospective students and their families can gain a firsthand look at one of the world’s leading animal and dairy science programs. Attendees will learn about the curriculum\, scholarships and financial aid availability\, career options\, and extracurricular opportunities that make-up the “Badger Experience” for animal and dairy students. Current students and instructors will be also on hand to answer questions and to talk about their involvement in campus activities. \n  \n“Choosing a college to attend is a major life decision. Thoroughly doing one’s research\, taking campus visits\, and attending virtual recruiting events is the best way to make it an informed choice\,” says Kent Weigel\, professor and chair of the Department of Animal & Dairy Sciences. “Students that visit us are often amazed by the small-school feel of our ag campus and the extra benefits they get studying at a Big Ten university\,” states Weigel. \n  \nIf students are interested in hearing more from the College of Agriculture and Life Sciences\, or the UW-Madison Admissions offices\, please fill out this form to receive more information. If students or families have any questions about these upcoming events or our programs\, contact the Animal and Dairy Science Recruitment Team at (608) 265-6930 or ADSrecruitment@ansci.wisc.edu.
URL:https://andysci.wisc.edu/dysci-event/virtual-in-person-preview-days/
LOCATION:Zoom
CATEGORIES:Undergraduate Events
END:VEVENT
END:VCALENDAR