BEGIN:VCALENDAR
VERSION:2.0
PRODID:-//Animal &amp; Dairy Sciences - ECPv6.15.17.1//NONSGML v1.0//EN
CALSCALE:GREGORIAN
METHOD:PUBLISH
X-ORIGINAL-URL:https://andysci.wisc.edu
X-WR-CALDESC:Events for Animal &amp; Dairy Sciences
REFRESH-INTERVAL;VALUE=DURATION:PT1H
X-Robots-Tag:noindex
X-PUBLISHED-TTL:PT1H
BEGIN:VTIMEZONE
TZID:America/Chicago
BEGIN:DAYLIGHT
TZOFFSETFROM:-0600
TZOFFSETTO:-0500
TZNAME:CDT
DTSTART:20220313T080000
END:DAYLIGHT
BEGIN:STANDARD
TZOFFSETFROM:-0500
TZOFFSETTO:-0600
TZNAME:CST
DTSTART:20221106T070000
END:STANDARD
BEGIN:DAYLIGHT
TZOFFSETFROM:-0600
TZOFFSETTO:-0500
TZNAME:CDT
DTSTART:20230312T080000
END:DAYLIGHT
BEGIN:STANDARD
TZOFFSETFROM:-0500
TZOFFSETTO:-0600
TZNAME:CST
DTSTART:20231105T070000
END:STANDARD
BEGIN:DAYLIGHT
TZOFFSETFROM:-0600
TZOFFSETTO:-0500
TZNAME:CDT
DTSTART:20240310T080000
END:DAYLIGHT
BEGIN:STANDARD
TZOFFSETFROM:-0500
TZOFFSETTO:-0600
TZNAME:CST
DTSTART:20241103T070000
END:STANDARD
END:VTIMEZONE
BEGIN:VEVENT
DTSTART;TZID=America/Chicago:20230324T190000
DTEND;TZID=America/Chicago:20230324T210000
DTSTAMP:20260422T083255
CREATED:20230322T232839Z
LAST-MODIFIED:20230324T172124Z
UID:13952-1679684400-1679691600@andysci.wisc.edu
SUMMARY:BDC's Badger Invitational Platinum Collection Sale
DESCRIPTION:The Badger Dairy Club is hosting their 21st Badger Invitational Platinum Collection Sale this Friday (March 24) at 7:00 PM. They are striving to continue the 42-year tradition of being one of the most prestigious collegiate sales in the country. This year they are offering more than 50 embryo and choice lots that are superior in type. The in-person portion is being held at the Harley Davidson of Madison Banquet Room (6200 Millpond Rd.\, Madison\, WI 53718) but the live online auction is being held at Cowbuyer.com. Anyone is welcome to attend in-person or join virtually with the link below. The full sale catalog is can be accessed here.
URL:https://andysci.wisc.edu/dysci-event/badger-invitational-platinum-sale/
LOCATION:Harley Davidson of Madison Banquet Room\, 6200 Millpond Road\, Madison\, WI\, 53718\, United States
CATEGORIES:Undergraduate Events
END:VEVENT
END:VCALENDAR