BEGIN:VCALENDAR
VERSION:2.0
PRODID:-//Animal &amp; Dairy Sciences - ECPv6.15.17.1//NONSGML v1.0//EN
CALSCALE:GREGORIAN
METHOD:PUBLISH
X-WR-CALNAME:Animal &amp; Dairy Sciences
X-ORIGINAL-URL:https://andysci.wisc.edu
X-WR-CALDESC:Events for Animal &amp; Dairy Sciences
REFRESH-INTERVAL;VALUE=DURATION:PT1H
X-Robots-Tag:noindex
X-PUBLISHED-TTL:PT1H
BEGIN:VTIMEZONE
TZID:America/Chicago
BEGIN:DAYLIGHT
TZOFFSETFROM:-0600
TZOFFSETTO:-0500
TZNAME:CDT
DTSTART:20220313T080000
END:DAYLIGHT
BEGIN:STANDARD
TZOFFSETFROM:-0500
TZOFFSETTO:-0600
TZNAME:CST
DTSTART:20221106T070000
END:STANDARD
BEGIN:DAYLIGHT
TZOFFSETFROM:-0600
TZOFFSETTO:-0500
TZNAME:CDT
DTSTART:20230312T080000
END:DAYLIGHT
BEGIN:STANDARD
TZOFFSETFROM:-0500
TZOFFSETTO:-0600
TZNAME:CST
DTSTART:20231105T070000
END:STANDARD
BEGIN:DAYLIGHT
TZOFFSETFROM:-0600
TZOFFSETTO:-0500
TZNAME:CDT
DTSTART:20240310T080000
END:DAYLIGHT
BEGIN:STANDARD
TZOFFSETFROM:-0500
TZOFFSETTO:-0600
TZNAME:CST
DTSTART:20241103T070000
END:STANDARD
END:VTIMEZONE
BEGIN:VEVENT
DTSTART;TZID=America/Chicago:20230407T120000
DTEND;TZID=America/Chicago:20230407T123000
DTSTAMP:20260419T104247
CREATED:20230331T162221Z
LAST-MODIFIED:20230331T162221Z
UID:13983-1680868800-1680870600@andysci.wisc.edu
SUMMARY:Graduate Student Seminar by Fiona Louise Guinan
DESCRIPTION:Title: Genetic analysis of lactation consistency using daily milk weights in U.S. Holsteins \nPresenter: Fiona Louise Guinan\, Animal Sciences Ph.D. candidate (advisor: Dr. Kent Weigel)\, Department of Animal & Dairy Sciences\, UW-Madison \nLocation: MSABD Room 1111
URL:https://andysci.wisc.edu/dysci-event/graduate-student-seminar-by-fiona-louise-guinan/
LOCATION:Meat Science and Animal Biologics Building\, 1933 Observatory Drive\, Madison\, Wisconsin\, 53706
CATEGORIES:Faculty/Staff Events,Graduate Program Events
END:VEVENT
BEGIN:VEVENT
DTSTART;TZID=America/Chicago:20230407T123000
DTEND;TZID=America/Chicago:20230407T130000
DTSTAMP:20260419T104247
CREATED:20230331T162347Z
LAST-MODIFIED:20230331T162451Z
UID:13985-1680870600-1680872400@andysci.wisc.edu
SUMMARY:Graduate Student Seminar by Agustin Chasco
DESCRIPTION:Title: Estrus expression in dairy cows: phenotyping\, genetic variability\, and association with reproductive performance \nPresenter: Agustin Chasco\, Animal Sciences M.S. candidate (advisor: Dr. Francisco Peñagaricano)\, Department of Animal & Dairy Sciences\, UW-Madison \nLocation: MSABD Room 1111
URL:https://andysci.wisc.edu/dysci-event/graduate-student-seminar-by/
LOCATION:Meat Science and Animal Biologics Building\, 1933 Observatory Drive\, Madison\, Wisconsin\, 53706
CATEGORIES:Faculty/Staff Events,Graduate Program Events
END:VEVENT
BEGIN:VEVENT
DTSTART;TZID=America/Chicago:20230414T120000
DTEND;TZID=America/Chicago:20230414T123000
DTSTAMP:20260419T104247
CREATED:20230410T150809Z
LAST-MODIFIED:20230410T155855Z
UID:14041-1681473600-1681475400@andysci.wisc.edu
SUMMARY:Graduate Student Seminar by Marjorie Killerby Campos
DESCRIPTION:Title: Effects of energy source and amino acid supplementation on milk production and nitrogen use efficiency \nPresenter: Marjorie Killerby Campos\, Dairy Sciences Ph.D. candidate (advisor: Dr. Sebastian Arriola Apelo)\, Department of Animal & Dairy Sciences\, UW-Madison \nLocation: MSABD Room 1111
URL:https://andysci.wisc.edu/dysci-event/graduate-student-seminar-by-marjorie-killerby-campos/
LOCATION:Meat Science and Animal Biologics Building\, 1933 Observatory Drive\, Madison\, Wisconsin\, 53706
CATEGORIES:Faculty/Staff Events,Graduate Program Events
END:VEVENT
BEGIN:VEVENT
DTSTART;TZID=America/Chicago:20230419T153000
DTEND;TZID=America/Chicago:20230419T163000
DTSTAMP:20260419T104247
CREATED:20230418T150833Z
LAST-MODIFIED:20230418T150833Z
UID:14134-1681918200-1681921800@andysci.wisc.edu
SUMMARY:Nutrition & Metabolism Animal Nutrition Seminar
DESCRIPTION:Unique amino acid metabolism by clostridium sporogenes impacts host muscle physiology \nPresented by:\nBrittney Kokinos\nPh.D. Graduate Student\nNutrition and Metabolism\, Department of Nutritional Sciences\nUniversity of Wisconsin‐Madison
URL:https://andysci.wisc.edu/dysci-event/nutrition-metabolism-animal-nutrition-seminar/
LOCATION:274 Animal Sciences
CATEGORIES:Graduate Program Events
END:VEVENT
BEGIN:VEVENT
DTSTART;TZID=America/Chicago:20230421T120000
DTEND;TZID=America/Chicago:20230421T123000
DTSTAMP:20260419T104247
CREATED:20230417T134406Z
LAST-MODIFIED:20230417T134440Z
UID:14109-1682078400-1682080200@andysci.wisc.edu
SUMMARY:Graduate Student Seminar by Larissa Novo
DESCRIPTION:Title: Genetic analysis of two relevant health traits: Johne’s Disease and Hypocalcemia \nPresenter: Larissa Novo\, Animal Sciences Ph.D. candidate (advisor: Dr. Francisco Peñagaricano)\, Department of Animal & Dairy Sciences\, UW-Madison \nLocation: MSABD Room 1111
URL:https://andysci.wisc.edu/dysci-event/graduate-student-seminar-by-larissa-novo/
LOCATION:Meat Science and Animal Biologics Building\, 1933 Observatory Drive\, Madison\, Wisconsin\, 53706
CATEGORIES:Faculty/Staff Events,Graduate Program Events
END:VEVENT
BEGIN:VEVENT
DTSTART;TZID=America/Chicago:20230421T123000
DTEND;TZID=America/Chicago:20230421T130000
DTSTAMP:20260419T104247
CREATED:20230417T135729Z
LAST-MODIFIED:20230417T135729Z
UID:14116-1682080200-1682082000@andysci.wisc.edu
SUMMARY:Graduate Student Seminar by Lihe Liu
DESCRIPTION:Title: Enrichkit: a useful omics tool for animal scientists \nPresenter: Lihe Liu\, Animal Sciences Ph.D. candidate (advisor: Dr. Francisco Peñagaricano)\, Department of Animal & Dairy Sciences\, UW-Madison \nLocation: MSABD Room 1111
URL:https://andysci.wisc.edu/dysci-event/graduate-student-seminar-by-lihe-liu-2/
LOCATION:Meat Science and Animal Biologics Building\, 1933 Observatory Drive\, Madison\, Wisconsin\, 53706
CATEGORIES:Faculty/Staff Events,Graduate Program Events
END:VEVENT
BEGIN:VEVENT
DTSTART;TZID=America/Chicago:20230424T090000
DTEND;TZID=America/Chicago:20230424T100000
DTSTAMP:20260419T104247
CREATED:20230417T152834Z
LAST-MODIFIED:20230417T152834Z
UID:14120-1682326800-1682330400@andysci.wisc.edu
SUMMARY:M.S. Defense Seminar By Kaylee Riesgraf
DESCRIPTION:Title: Long-Term Impacts of Early Life Management on Heifer Growth\, Feed Efficiency\, and Enteric Methane Emissions. \nPresenter: Kaylee Riesgraf\, Animal Sciences M.S. candidate (advisor: Dr. Kent Weigel)\, UW-Madison Department Animal and Dairy Sciences \nLocation: Animal Science Building\, Room 274
URL:https://andysci.wisc.edu/dysci-event/m-s-defense-seminar-by-kaylee-riesgraf/
LOCATION:274 Animal Sciences
CATEGORIES:Faculty/Staff Events,Graduate Program Events
END:VEVENT
BEGIN:VEVENT
DTSTART;TZID=America/Chicago:20230427T140000
DTEND;TZID=America/Chicago:20230427T150000
DTSTAMP:20260419T104247
CREATED:20230412T155640Z
LAST-MODIFIED:20230412T155709Z
UID:14064-1682604000-1682607600@andysci.wisc.edu
SUMMARY:M.S. Defense Seminar By Teresita Valdes Arciniega
DESCRIPTION:Title: Effect of GnRH dose\, circulating progesterone concentrations and milk production on ovulatory response of lactating dairy cows in a Double Ovsynch program. \nPresenter: Teresita Valdes Arciniega\, Dairy Science M.S. candidate (advisor: Dr. João Paulo N. Martins)\, UW-Madison Department of Medical Sciences \nLocation: MSABD Room 1115 or virtual
URL:https://andysci.wisc.edu/dysci-event/m-s-defense-seminar-by-teresita-valdes-arciniega/
LOCATION:Meat Science and Animal Biologics Building\, 1933 Observatory Drive\, Madison\, Wisconsin\, 53706
CATEGORIES:Faculty/Staff Events,Graduate Program Events
END:VEVENT
BEGIN:VEVENT
DTSTART;TZID=America/Chicago:20230428T120000
DTEND;TZID=America/Chicago:20230428T123000
DTSTAMP:20260419T104247
CREATED:20230417T134546Z
LAST-MODIFIED:20230417T134758Z
UID:14110-1682683200-1682685000@andysci.wisc.edu
SUMMARY:Graduate Student Seminar by Olivia Kepner
DESCRIPTION:Title: Pedagogical Considerations for Introductory Undergraduate Science Education \nPresenter: Olivia Kepner\, Animal Sciences M.S. candidate (advisor: Dr. Luiz Ferraretto)\, Department of Animal & Dairy Sciences\, UW-Madison \nLocation: MSABD Room 1111
URL:https://andysci.wisc.edu/dysci-event/graduate-student-seminar-by-olivia-kepner/
LOCATION:Meat Science and Animal Biologics Building\, 1933 Observatory Drive\, Madison\, Wisconsin\, 53706
CATEGORIES:Faculty/Staff Events,Graduate Program Events
END:VEVENT
BEGIN:VEVENT
DTSTART;TZID=America/Chicago:20230428T123000
DTEND;TZID=America/Chicago:20230428T130000
DTSTAMP:20260419T104247
CREATED:20230417T134746Z
LAST-MODIFIED:20230417T134746Z
UID:14111-1682685000-1682686800@andysci.wisc.edu
SUMMARY:Graduate Student Seminar by Erin Kammann
DESCRIPTION:Title: Epidemiology of high liver triglyceride prediction: Associations with peripartum risk factors and postpartum performances and health consequences. \nPresenter: Erin Kammann\, Dairy Sciences M.S. candidate (advisor: Dr. Heather White)\, Department of Animal & Dairy Sciences\, UW-Madison \nLocation: MSABD Room 1111
URL:https://andysci.wisc.edu/dysci-event/graduate-student-seminar-by-erin-kammann/
LOCATION:Meat Science and Animal Biologics Building\, 1933 Observatory Drive\, Madison\, Wisconsin\, 53706
CATEGORIES:Faculty/Staff Events,Graduate Program Events
END:VEVENT
END:VCALENDAR