BEGIN:VCALENDAR
VERSION:2.0
PRODID:-//Animal &amp; Dairy Sciences - ECPv6.15.17.1//NONSGML v1.0//EN
CALSCALE:GREGORIAN
METHOD:PUBLISH
X-ORIGINAL-URL:https://andysci.wisc.edu
X-WR-CALDESC:Events for Animal &amp; Dairy Sciences
REFRESH-INTERVAL;VALUE=DURATION:PT1H
X-Robots-Tag:noindex
X-PUBLISHED-TTL:PT1H
BEGIN:VTIMEZONE
TZID:America/Chicago
BEGIN:DAYLIGHT
TZOFFSETFROM:-0600
TZOFFSETTO:-0500
TZNAME:CDT
DTSTART:20220313T080000
END:DAYLIGHT
BEGIN:STANDARD
TZOFFSETFROM:-0500
TZOFFSETTO:-0600
TZNAME:CST
DTSTART:20221106T070000
END:STANDARD
BEGIN:DAYLIGHT
TZOFFSETFROM:-0600
TZOFFSETTO:-0500
TZNAME:CDT
DTSTART:20230312T080000
END:DAYLIGHT
BEGIN:STANDARD
TZOFFSETFROM:-0500
TZOFFSETTO:-0600
TZNAME:CST
DTSTART:20231105T070000
END:STANDARD
BEGIN:DAYLIGHT
TZOFFSETFROM:-0600
TZOFFSETTO:-0500
TZNAME:CDT
DTSTART:20240310T080000
END:DAYLIGHT
BEGIN:STANDARD
TZOFFSETFROM:-0500
TZOFFSETTO:-0600
TZNAME:CST
DTSTART:20241103T070000
END:STANDARD
END:VTIMEZONE
BEGIN:VEVENT
DTSTART;TZID=America/Chicago:20230303T120000
DTEND;TZID=America/Chicago:20230303T130000
DTSTAMP:20260419T092753
CREATED:20230228T221837Z
LAST-MODIFIED:20230228T221837Z
UID:13710-1677844800-1677848400@andysci.wisc.edu
SUMMARY:Enrichkit: a useful omnics tool for animal scientists
DESCRIPTION:Lihe Liu\, Ph.D. candidate in Peñagaricano lab
URL:https://andysci.wisc.edu/dysci-event/enrichkit-a-useful-omnics-tool-for-animal-scientists/
LOCATION:Wisconsin
CATEGORIES:Faculty/Staff Events,Graduate Program Events
END:VEVENT
BEGIN:VEVENT
DTSTART;TZID=America/Chicago:20230303T123000
DTEND;TZID=America/Chicago:20230303T130000
DTSTAMP:20260419T092753
CREATED:20230228T221713Z
LAST-MODIFIED:20230228T221713Z
UID:13708-1677846600-1677848400@andysci.wisc.edu
SUMMARY:Granulosa cell proliferation in carriers and noncarries of the Trio allele
DESCRIPTION:Sadrollah Molaei Moghbeli\, Ph.D. Candidate in the Kirkpatrick Lab
URL:https://andysci.wisc.edu/dysci-event/granulosa-cell-proliferation-in-carriers-and-noncarries-of-the-trio-allele/
LOCATION:Wisconsin
CATEGORIES:Faculty/Staff Events,Graduate Program Events
END:VEVENT
BEGIN:VEVENT
DTSTART;TZID=America/Chicago:20230324T120000
DTEND;TZID=America/Chicago:20230324T123000
DTSTAMP:20260419T092753
CREATED:20230319T003927Z
LAST-MODIFIED:20230319T003936Z
UID:13900-1679659200-1679661000@andysci.wisc.edu
SUMMARY:Insights into feed efficiency from a metabolic level
DESCRIPTION:Malia Caputo\, Ph.D. Candidate in the White Lab
URL:https://andysci.wisc.edu/dysci-event/insights-into-feed-efficiency-from-a-metabolic-level/
LOCATION:Meat Science and Animal Biologics Building\, 1933 Observatory Drive\, Madison\, Wisconsin\, 53706
CATEGORIES:Graduate Program Events
END:VEVENT
BEGIN:VEVENT
DTSTART;TZID=America/Chicago:20230324T123000
DTEND;TZID=America/Chicago:20230324T130000
DTSTAMP:20260419T092753
CREATED:20230319T004032Z
LAST-MODIFIED:20230319T004032Z
UID:13902-1679661000-1679662800@andysci.wisc.edu
SUMMARY:Protein knockdown in BFH12: understanding bovine metabolism
DESCRIPTION:Sophia Kendall\, M.S. candidate in White lab
URL:https://andysci.wisc.edu/dysci-event/protein-knockdown-in-bfh12-understanding-bovine-metabolism/
LOCATION:Wisconsin
CATEGORIES:Graduate Program Events
END:VEVENT
BEGIN:VEVENT
DTSTART;TZID=America/Chicago:20230331T120000
DTEND;TZID=America/Chicago:20230331T123000
DTSTAMP:20260419T092753
CREATED:20230327T135412Z
LAST-MODIFIED:20230327T135412Z
UID:13976-1680264000-1680265800@andysci.wisc.edu
SUMMARY:Graduate Student Seminar by MaryGrace Erickson
DESCRIPTION:Title: Dietary crude protein oscillation in diets adequate and deficient in metabolizable protein: effects on productivity and environmental outputs of Holstein cows \nPresenter: MaryGrace Erickson\, Dairy Sciences Ph.D. candidate (advisor: Dr. Michel Wattiaux)\, Department of Animal & Dairy Sciences\, UW-Madison \nLocation: MSABD Room 1111
URL:https://andysci.wisc.edu/dysci-event/graduate-student-seminar-by-marygrace-erickson/
LOCATION:Meat Science and Animal Biologics Building\, 1933 Observatory Drive\, Madison\, Wisconsin\, 53706
CATEGORIES:Faculty/Staff Events,Graduate Program Events
END:VEVENT
BEGIN:VEVENT
DTSTART;TZID=America/Chicago:20230331T123000
DTEND;TZID=America/Chicago:20230331T130000
DTSTAMP:20260419T092753
CREATED:20230327T134757Z
LAST-MODIFIED:20230327T134757Z
UID:13974-1680265800-1680267600@andysci.wisc.edu
SUMMARY:Graduate Student Seminar by Yanghai Zhang
DESCRIPTION:Title: Molecular mechanism of RNA-binding motif protein 20 (RBM20) in muscle structure and function \nPresenter: Yanghai Zhang\, Animal Sciences Ph.D. candidate (advisor: Dr. Wei Guo)\, Department of Animal & Dairy Sciences\, UW-Madison \nLocation: MSABD Room 1111
URL:https://andysci.wisc.edu/dysci-event/graduate-student-seminar-by-yanghai-zhang/
LOCATION:Meat Science and Animal Biologics Building\, 1933 Observatory Drive\, Madison\, Wisconsin\, 53706
CATEGORIES:Faculty/Staff Events,Graduate Program Events
END:VEVENT
END:VCALENDAR