BEGIN:VCALENDAR
VERSION:2.0
PRODID:-//Animal &amp; Dairy Sciences - ECPv6.15.20//NONSGML v1.0//EN
CALSCALE:GREGORIAN
METHOD:PUBLISH
X-WR-CALNAME:Animal &amp; Dairy Sciences
X-ORIGINAL-URL:https://andysci.wisc.edu
X-WR-CALDESC:Events for Animal &amp; Dairy Sciences
REFRESH-INTERVAL;VALUE=DURATION:PT1H
X-Robots-Tag:noindex
X-PUBLISHED-TTL:PT1H
BEGIN:VTIMEZONE
TZID:America/Chicago
BEGIN:DAYLIGHT
TZOFFSETFROM:-0600
TZOFFSETTO:-0500
TZNAME:CDT
DTSTART:20220313T080000
END:DAYLIGHT
BEGIN:STANDARD
TZOFFSETFROM:-0500
TZOFFSETTO:-0600
TZNAME:CST
DTSTART:20221106T070000
END:STANDARD
BEGIN:DAYLIGHT
TZOFFSETFROM:-0600
TZOFFSETTO:-0500
TZNAME:CDT
DTSTART:20230312T080000
END:DAYLIGHT
BEGIN:STANDARD
TZOFFSETFROM:-0500
TZOFFSETTO:-0600
TZNAME:CST
DTSTART:20231105T070000
END:STANDARD
BEGIN:DAYLIGHT
TZOFFSETFROM:-0600
TZOFFSETTO:-0500
TZNAME:CDT
DTSTART:20240310T080000
END:DAYLIGHT
BEGIN:STANDARD
TZOFFSETFROM:-0500
TZOFFSETTO:-0600
TZNAME:CST
DTSTART:20241103T070000
END:STANDARD
END:VTIMEZONE
BEGIN:VEVENT
DTSTART;TZID=America/Chicago:20230413T081500
DTEND;TZID=America/Chicago:20230413T173000
DTSTAMP:20260425T173652
CREATED:20230403T171056Z
LAST-MODIFIED:20230403T171056Z
UID:13989-1681373700-1681407000@andysci.wisc.edu
SUMMARY:MSABD/Wisconsin Association of Meat Processors (WAMP) Pre-Convention Workshops
DESCRIPTION:The WAMP convention will kick off on Thursday\, April 13\, with a Pre-convention workshop hosted by the University of Wisconsin – Meat Science and Animal Biologics Discovery. The workshop focus is “Technology and Automation Working for You.” It will include demonstrations of equipment used in harvesting and further processing\, and speakers will discuss implementation of automation in a meat processing facility. \nIf you have an interest in the meat industry and attending the WAMP Convention\, please see a detailed schedule and register at https://wi-amp.com/ or contact WAMP at 608-636-0639/email dianne@wi-amp.com. A WAMP membership is required to attend the convention.
URL:https://andysci.wisc.edu/dysci-event/msabd-wisconsin-association-of-meat-processors-wamp-pre-convention-workshops/
LOCATION:Meat Science and Animal Biologics Building\, 1933 Observatory Drive\, Madison\, Wisconsin\, 53706
CATEGORIES:Extension/Outreach Events
ORGANIZER;CN="The Wisconsin Association of Meat Processors":MAILTO:dianne@wi-amp.com
END:VEVENT
BEGIN:VEVENT
DTSTART;VALUE=DATE:20230606
DTEND;VALUE=DATE:20230609
DTSTAMP:20260425T173652
CREATED:20220601T050000Z
LAST-MODIFIED:20230419T205725Z
UID:8562-1686078000-1686250799@andysci.wisc.edu
SUMMARY:2023 Four-State Dairy Nutrition and Management Conference
DESCRIPTION:The Four-State Dairy Nutrition and Management Conference presents the latest research on issues concerning the dairy industry including feed efficiency\, calves and transition cows. \n2023 Four-State Program Brochure \nRegistration fee: $150.00 before May 26\, 2023\n$175.00 after May 26\, 2023 and at the door \nRegister HERE
URL:https://andysci.wisc.edu/dysci-event/four-state-dairy-nutrition-and-management-conference/
LOCATION:Grand River Center\, 500 Bell Street\, Dubuque\, Iowa\, 52001
CATEGORIES:Alumni/Donor Events,Extension/Outreach Events,Faculty/Staff Events,Highlighted Event
END:VEVENT
END:VCALENDAR