BEGIN:VCALENDAR
VERSION:2.0
PRODID:-//Animal &amp; Dairy Sciences - ECPv6.15.20//NONSGML v1.0//EN
CALSCALE:GREGORIAN
METHOD:PUBLISH
X-ORIGINAL-URL:https://andysci.wisc.edu
X-WR-CALDESC:Events for Animal &amp; Dairy Sciences
REFRESH-INTERVAL;VALUE=DURATION:PT1H
X-Robots-Tag:noindex
X-PUBLISHED-TTL:PT1H
BEGIN:VTIMEZONE
TZID:America/Chicago
BEGIN:DAYLIGHT
TZOFFSETFROM:-0600
TZOFFSETTO:-0500
TZNAME:CDT
DTSTART:20190310T080000
END:DAYLIGHT
BEGIN:STANDARD
TZOFFSETFROM:-0500
TZOFFSETTO:-0600
TZNAME:CST
DTSTART:20191103T070000
END:STANDARD
BEGIN:DAYLIGHT
TZOFFSETFROM:-0600
TZOFFSETTO:-0500
TZNAME:CDT
DTSTART:20200308T080000
END:DAYLIGHT
BEGIN:STANDARD
TZOFFSETFROM:-0500
TZOFFSETTO:-0600
TZNAME:CST
DTSTART:20201101T070000
END:STANDARD
BEGIN:DAYLIGHT
TZOFFSETFROM:-0600
TZOFFSETTO:-0500
TZNAME:CDT
DTSTART:20210314T080000
END:DAYLIGHT
BEGIN:STANDARD
TZOFFSETFROM:-0500
TZOFFSETTO:-0600
TZNAME:CST
DTSTART:20211107T070000
END:STANDARD
END:VTIMEZONE
BEGIN:VEVENT
DTSTART;TZID=America/Chicago:20201209T100000
DTEND;TZID=America/Chicago:20201209T110000
DTSTAMP:20260425T075713
CREATED:20201123T213553Z
LAST-MODIFIED:20201123T213712Z
UID:9547-1607508000-1607511600@andysci.wisc.edu
SUMMARY:Dairy Cattle Welfare Council Webinar by Dr. Jimena Laporta
DESCRIPTION:Presenter: Dr. Jimena Laporta\, Assistant Professor\, University of Wisconsin-Madison Department of Animal & Dairy Sciences \nTitle: Transgenerational effects of late-gestation heat stress \nMust pre-register – register HERE
URL:https://andysci.wisc.edu/dysci-event/dairy-cattle-welfare-council-webinar-by-dr-jimena-laporta/
LOCATION:Wisconsin
CATEGORIES:Extension/Outreach Events
END:VEVENT
END:VCALENDAR